Workbook
Name aide: '[1]Données du projet'!$G$8:$G$14
Name aide: '[2]Données du projet'!$G$8:$G$11
Name aide: 'Données du projet'!$G$8:$G$13
Name Avancement: 'Données du projet'!$E$8:$E$9
Name champmetiers: '[3]4_Activite_entr.'!$B$41:$B$64
Name cond: #REF!
Name cond: #REF!
Name cond: #REF!
Name cond2: #REF!
Name cond2: #REF!
Name cond2: #REF!
Name condact: '[3]4_Activite_entr.'!$AG$70:$AG$86
Name condmetiers: '[3]4_Activite_entr.'!$AG$41:$AG$64
Name Coût_HT_Total: '[4]Plan de fi'!$C$3
Name Coût_TTC: '[4]Plan de fi'!$H$3
Name COUTTOTAL: [5]RESERVE!$G$3
Name demchamps: #REF!
Name demchamps: #REF!
Name demchamps: #REF!
Name demcond: #REF!
Name demcond: #REF!
Name demcond: #REF!
Name DEPENSESMINI: [5]RESERVE!#REF!
Name DEPENSESMINI: [5]RESERVE!#REF!
Name DEPENSESMINI: [5]RESERVE!#REF!
Name DEPENSESMINI: [5]RESERVE!#REF!
Name Format: 'Données du projet'!$E$8:$E$9
Name Long_métrage: 'Données du projet'!$D$5:$D$7
Name metiersf: OFFSET('[3]4_Activite_entr.'!$T$41,,,COUNT('[3]4_Activite_entr.'!$U:$U))
Name Oui: '[6]Données du projet'!$D$14:$D$15
Name Oui: '[2]Données du projet'!$D$18:$D$19
Name Oui: '[6]Données du projet'!$D$14:$D$15
Name Oui: 'Données du projet'!$D$18:$D$19
Name Plafond: [5]RESERVE!#REF!
Name Plafond: [5]RESERVE!#REF!
Name Plafond: [5]RESERVE!#REF!
Name Plafond: [5]RESERVE!#REF!
Name Plancher: [5]RESERVE!#REF!
Name Plancher: [5]RESERVE!#REF!
Name Plancher: [5]RESERVE!#REF!
Name Plancher: [5]RESERVE!#REF!
Name repartmetiers: OFFSET('[3]4_Activite_entr.'!$AH$41,,,COUNT('[3]4_Activite_entr.'!$AI:$AI))
Name repartstockflux: OFFSET('[3]4_Activite_entr.'!$AI$72,,,COUNT('[3]4_Activite_entr.'!$AJ:$AJ))
Name reparttauxmetiers: OFFSET('[3]4_Activite_entr.'!$AI$41,,,COUNT('[3]4_Activite_entr.'!$AI:$AI))
Name reparttauxstockflux: OFFSET('[3]4_Activite_entr.'!$AJ$72,,,COUNT('[3]4_Activite_entr.'!$AJ:$AJ))
Name STAT: #REF!
Name STAT: #REF!
Name STAT: #REF!
Name stat2: #REF!
Name stat2: #REF!
Name stat2: #REF!
Name Taux: [5]RESERVE!#REF!
Name Taux: [5]RESERVE!#REF!
Name Taux: [5]RESERVE!#REF!
Name Taux: [5]RESERVE!#REF!
Name tauxact: '[3]4_Activite_entr.'!$O$70:$Q$86
Name tauxf: OFFSET('[3]4_Activite_entr.'!$U$41,,,COUNT('[3]4_Activite_entr.'!$U:$U))

Sheet Page de garde 
A1: FICHE DE RENSEIGNEMENTS AIDE À LA PRODUCTION
A16: Fiction audiovisuelle

Sheet Données du projet
C2: Fiche de renseignements à la production
C3: Fiction audiovisuelle
C4: Merci de bien vouloir remplir attentivement la fiche ci-dessous. | K4: AV
A5: Catégorie | C5: Fiction audiovisuelle | E5: Ecriture
A7: Type d'aide | C7: Production | D7: Développement
G8: Bourse d'écriture en résidence | H8: BRS RES
A9: Titre du projet | G9: Ecriture | H9: ECR
E10: Bourse d'écriture BRS | G10: Développement | H10: DEV
A11: Adaptation | D11: En cas d'adaptation joindre les contrats afférants | G11: Production | H11: DEV INTER
A12: Auteur/autrice de l'œuvre littéraire | E12: Ecriture ECR
A13: Titre de l'œuvre littéraire | E13: Développement DEV | H13: PROD
E14: Développement international DEV INTER
A15: Données techniques | E15: Production PROD
A16: Durée (min) Nombre d'épisodes x durée par épisode | E16: Femme
A17: Langue(s) | E17: Homme
A18: S'agit-il d'un premier film ? | D18: Oui | E18: Non binaire
A19: N° ISAN | D19: Non | E19: Non défini
A21: Données artistiques
A23: Ecriture
A24: Auteur/autrice | C24: Prénom et NOM | D24: Genre | E24: E-Mail | F24: Domicile fiscal - Métropole Aix-Marseille-Provence
A27: Coauteur/coautrice(s) | C27: Prénom et NOM | D27: Genre | E27: E-Mail | F27: Domicile fiscal - Métropole Aix-Marseille-Provence
A35: Réalisation
A36: Réalisateur/réalisatrice | C36: Prénom et NOM | D36: Genre | E36: E-Mail | F36: Domicile fiscal - Métropole Aix-Marseille-Provence
A39: Coréalisateur/réalisatrice | C39: Prénom et NOM | D39: Genre | E39: E-Mail | F39: Domicile fiscal - Métropole Aix-Marseille-Provence
A44: Production
A45: Producteur/productrice déposant la demande | C45: Prénom et NOM | D45: Genre | E45: E-Mail producteur/productrice du projet | F45: Téléphone producteur/productrice du projet
A48: Raison sociale de la production
A49: N° SIRET
A50: Code APE
C52: Adresse du siège la société | D52: Code postal du siège de la société | E52: Ville du siège de la société de production
C54: Adresse de l'établissement secondaire de la société | D54: Code postal de l'établissement secondaire de la société | E54: Ville de l'établissement secondaire de la société de production
C56: Adresse de l'établissement secondaire de la société | D56: Code postal de l'établissement secondaire de la société | E56: Ville de l'établissement secondaire de la société de production
A58: Nom et prénom du contact pour le projet
A59: Téléphone fixe du contact
A60: Téléphone portable du contact
A61: E-mail du contact
A63: Coproducteurs | C63: Nom de la société (raison sociale) | D63: Pays du siège social | E63: Prénom et NOM du producteur du projet | F63: E-Mail
A64: 1er Coproducteur
A65: 2ème Coproducteur
A66: 3ème Coproducteur
...

Sheet  Devis oeuvre audiovisuelle
C1: Devis audiovisuel
A2: Titre du projet : | G2: Date :
D4: Total dépenses à l'étranger | E4: Total dépenses en France (€) | F4: Coût définitif total (€) | G4: Dont dépenses sur le territoire d'Aix-Marseille-Provence
A5: 1. Droits artistiques | D5: =SUM(D6:D13) -> 0 | E5: =SUM(E6:E13) -> 0 | F5: =D5+E5 -> 0 | G5: =SUM(G6:G13) -> 0
B6: 11. | C6: Sujet | F6: =D6+E6 -> 0
B7: 12. | C7: Adaptation dialogues | F7: =D7+E7 -> 0
B8: 13. | C8: Droit d'auteur du réalisateur | F8: =D8+E8 -> 0
B9: 14. | C9: Droits musicaux | F9: =D9+E9 -> 0
B10: 15. | C10: Droits divers (documents archives) | F10: =D10+E10 -> 0
B11: 16. | C11: Traductions et dactylographie | F11: =D11+E11 -> 0
B12: 17. | C12: Frais sur manuscrits | F12: =D12+E12 -> 0
B13: 19. | C13: Agents littéraires et conseils | F13: =D13+E13 -> 0
A14: 2. Personnel | D14: =SUM(D15:D31) -> 0 | E14: =SUM(E15:E31) -> 0 | F14: =D14+E14 -> 0 | G14: =SUM(G15:G31) -> 0
B15: 21. | C15: Producteurs | F15: =SUM(D15:E15) -> 0
B16: 22. | C16: Réalisateur technicien | F16: =SUM(D16:E16) -> 0
A17: 23. équipe préparation et tournages | B17: 231 | C17: Direction administration | F17: =SUM(D17:E17) -> 0
B18: 232 | C18: Régie | F18: =SUM(D18:E18) -> 0
B19: 233 | C19: Mise en scène techniciens | F19: =SUM(D19:E19) -> 0
B20: 234 | C20: Conseillers spécialisés | F20: =SUM(D20:E20) -> 0
B21: 235 | C21: Prises de vues | F21: =SUM(D21:E21) -> 0
B22: 236 | C22: Son | F22: =SUM(D22:E22) -> 0
B23: 237 | C23: Costumes | F23: =SUM(D23:E23) -> 0
B24: 238 | C24: Maquillage | F24: =SUM(D24:E24) -> 0
B25: 239 | C25: Ameublement | F25: =SUM(D25:E25) -> 0
B26: 24. | C26: Equipe décoration | F26: =SUM(D26:E26) -> 0
B27: 25. | C27: Montage et finition | F27: =SUM(D27:E27) -> 0
B28: 26. | C28: Main d'oeuvre tournage | F28: =SUM(D28:E28) -> 0
B29: 27. | C29: Main d'oeuvre décors | F29: =SUM(D29:E29) -> 0
B30: 28. | C30: Divers (prestation personnel tournage et décor, etc) | F30: =SUM(D30:E30) -> 0
B31: 29. | C31: Agents artistisques personnel technique | F31: =SUM(D31:E31) -> 0
A32: 3. Interprétation | D32: =SUM(D33:D38) -> 0 | E32: =SUM(E33:E38) -> 0 | F32: =D32+E32 -> 0 | G32: =SUM(G33:G38) -> 0
B33: 31. | C33: Rôles principaux | F33: =D33+E33 -> 0
B34: 32. | C34: Rôles secondaires | F34: =D34+E34 -> 0
B35: 33. à 35. | C35: Petits rôles, doublures, figuration | F35: =D35+E35 -> 0
B36: 36. | C36: Personnels artistique après tournage | F36: =D36+E36 -> 0
B37: 37. | C37: Personnels musique | F37: =D37+E37 -> 0
B38: 39. | C38: Agents artistiques | F38: =D38+E38 -> 0
A39: 4. Charges sociales | D39: =SUM(D40:D44) -> 0 | E39: =SUM(E40:E44) -> 0 | F39: =SUM(D39:E39) -> 0 | G39: =SUM(G40:G44) -> 0
B40: 41. | C40: Auteurs | F40: =SUM(D40:E40) -> 0
B41: 42. | C41: Comédiens | F41: =SUM(D41:E41) -> 0
...

Sheet Plan de financement
A1: Plan de financement
A2: Titre du projet : | D2: Date :
A4: Préciser si les financements sont acquis ou une date estimée de réponse dans le cas où un financement a été demandé et est en cours d'instruction. En dehors des apports producteurs, le financement sera considéré comme non acquis s'il n'est pas accompagné d'un justificatif (notifications, deal_mémo, contrat, ...)
B6: Intitulé de l'aide ou du financeur | C6: Soutien à la production | D6: Acquis (A) ou date estimée pour une réponse | E6: Justificatif joint à la demande
A7: Producteur(s) délégué(s) | C7: =SUM(C8:C15) -> 0
A8: Numéraire
A9: Industrie
A10: Fonds de soutien LM producteur
A11: Fonds de Soutien Audiovisuel Automatique
A12: numéraire
A13: Frais généraux en participation
A14: Crédit d'impôt
A16: Autres coproducteurs | C16: =SUM(C17:C24) -> 0
A17: Numéraire
A18: Industrie
A19: Fonds de soutien LM producteur
A20: Fonds de Soutien Audiovisuel Automatique
A21: Rémunération du producteur en participation
A22: Frais généraux en participation
A23: Crédit d'impôt
A25: Coproduction télévision 1 | C25: =C26+C27 -> 0
A26: Numéraire
A27: Industrie
A28: dont part antenne
A29: dont part coproducteur
A30: Coproduction télévision 2 | C30: =C31+C32 -> 0
A31: Numéraire
A32: Industrie
A33: dont part antenne
A34: dont part coproducteur
A35: Coproduction télévision 3 | C35: =C36+C37 -> 0
A36: Numéraire
A37: Industrie
A38: dont part antenne
A39: dont part coproducteur
A40: Autres | C40: =SUM(C41:C50) -> 0
A41: Parrainages
A42: PROCIREP
A43: ADAMI
A44: SACD-Beaumarchais
...

Sheet Infos résumées
C2: Soutien à la production
C3: Fiction Long-métrage, court-métrage et audiovisuel
A7: Catégorie | C7: ='Données du projet'!#REF! -> #REF!
A8: Type d'aide | C8: PROD
A9: Titre du projet | C9: ='Données du projet'!C9 -> 0
A10: Durée | C10: ='Données du projet'!C16 -> 0
A11: Auteur.e | C11: ='Données du projet'!C25 -> 0
A12: Réalisateur.rice | C12: ='Données du projet'!C37 -> 0
A13: Société de production | C13: ='Données du projet'!C48 -> 0
A14: Producteur.trice déposant la demande | C14: ='Données du projet'!C46 -> 0
A15: N° SIRET | C15: ='Données du projet'!C49 -> 0
A16: Code APE | C16: ='Données du projet'!C50 -> 0
A17: Adresse de la société de production | C17: ='Données du projet'!F52 -> 0
A18: Code postal siège de la société de production | C18: ='Données du projet'!F53 -> 0
A19: Nom et prénom du contact pour le projet | C19: ='Données du projet'!C58 -> 0
A20: Téléphone portable du contact | C20: ='Données du projet'!C60 -> 0
A21: E-mail du contact | C21: ='Données du projet'!C61 -> 0
A22: Synopsis court | C22: ='Données du projet'!C68:E68 -> 0
A23: Diffuseur audiovisuel France | C23: ='Données du projet'!C107 -> 0
A24: Distributeur France | C24: ='Données du projet'!C106 -> 0
A25: Montant de la subvention demandé à la Région Sud | C25: ='Données du projet'!C116 -> 0
A26: Coût total du projet au moment de la demande | C26: ='Données du projet'!C117 -> 0
A27: Total des dépenses en Région Sud | C27: ='Données du projet'!C119 -> 0
A28: Type(s) d'aide(s) antérieure(s) | C28: ='Données du projet'!#REF! -> #REF!
A29: Numéros demande(s) antérieure(s) | C29: ='Données du projet'!#REF! -> #REF!
